BEGIN:VCALENDAR
VERSION:2.0
PRODID:-//FotoFocus Cincinnati - ECPv6.15.17.1//NONSGML v1.0//EN
CALSCALE:GREGORIAN
METHOD:PUBLISH
X-WR-CALNAME:FotoFocus Cincinnati
X-ORIGINAL-URL:https://www.fotofocus.org
X-WR-CALDESC:Events for FotoFocus Cincinnati
REFRESH-INTERVAL;VALUE=DURATION:PT1H
X-Robots-Tag:noindex
X-PUBLISHED-TTL:PT1H
BEGIN:VTIMEZONE
TZID:America/Kentucky/Louisville
BEGIN:DAYLIGHT
TZOFFSETFROM:-0500
TZOFFSETTO:-0400
TZNAME:EDT
DTSTART:20210314T070000
END:DAYLIGHT
BEGIN:STANDARD
TZOFFSETFROM:-0400
TZOFFSETTO:-0500
TZNAME:EST
DTSTART:20211107T060000
END:STANDARD
BEGIN:DAYLIGHT
TZOFFSETFROM:-0500
TZOFFSETTO:-0400
TZNAME:EDT
DTSTART:20220313T070000
END:DAYLIGHT
BEGIN:STANDARD
TZOFFSETFROM:-0400
TZOFFSETTO:-0500
TZNAME:EST
DTSTART:20221106T060000
END:STANDARD
BEGIN:DAYLIGHT
TZOFFSETFROM:-0500
TZOFFSETTO:-0400
TZNAME:EDT
DTSTART:20230312T070000
END:DAYLIGHT
BEGIN:STANDARD
TZOFFSETFROM:-0400
TZOFFSETTO:-0500
TZNAME:EST
DTSTART:20231105T060000
END:STANDARD
END:VTIMEZONE
BEGIN:VEVENT
DTSTART;TZID=America/Kentucky/Louisville:20221007T180000
DTEND;TZID=America/Kentucky/Louisville:20221007T190000
DTSTAMP:20260419T131856
CREATED:20220804T005708Z
LAST-MODIFIED:20240826T144734Z
UID:12505-1665165600-1665169200@www.fotofocus.org
SUMMARY:Public Tour
DESCRIPTION:A public tour of the exhibition.
URL:https://www.fotofocus.org/event/public-tour-3/
LOCATION:21c Museum Hotel Cincinnati\, 609 Walnut St\, Cincinnati\, OH\, 45202\, United States
CATEGORIES:Tour
GEO:39.10311;-84.51194
X-APPLE-STRUCTURED-LOCATION;VALUE=URI;X-ADDRESS=21c Museum Hotel Cincinnati 609 Walnut St Cincinnati OH 45202 United States;X-APPLE-RADIUS=500;X-TITLE=609 Walnut St:geo:-84.51194,39.10311
END:VEVENT
END:VCALENDAR